BEGIN:VCALENDAR
VERSION:2.0
PRODID:-//Ville de Saint-Vit - ECPv6.15.20//NONSGML v1.0//EN
CALSCALE:GREGORIAN
METHOD:PUBLISH
X-WR-CALNAME:Ville de Saint-Vit
X-ORIGINAL-URL:https://www.saintvit.fr
X-WR-CALDESC:Évènements pour Ville de Saint-Vit
REFRESH-INTERVAL;VALUE=DURATION:PT1H
X-Robots-Tag:noindex
X-PUBLISHED-TTL:PT1H
BEGIN:VTIMEZONE
TZID:Europe/Paris
BEGIN:DAYLIGHT
TZOFFSETFROM:+0100
TZOFFSETTO:+0200
TZNAME:CEST
DTSTART:20250330T010000
END:DAYLIGHT
BEGIN:STANDARD
TZOFFSETFROM:+0200
TZOFFSETTO:+0100
TZNAME:CET
DTSTART:20251026T010000
END:STANDARD
BEGIN:DAYLIGHT
TZOFFSETFROM:+0100
TZOFFSETTO:+0200
TZNAME:CEST
DTSTART:20260329T010000
END:DAYLIGHT
BEGIN:STANDARD
TZOFFSETFROM:+0200
TZOFFSETTO:+0100
TZNAME:CET
DTSTART:20261025T010000
END:STANDARD
BEGIN:DAYLIGHT
TZOFFSETFROM:+0100
TZOFFSETTO:+0200
TZNAME:CEST
DTSTART:20270328T010000
END:DAYLIGHT
BEGIN:STANDARD
TZOFFSETFROM:+0200
TZOFFSETTO:+0100
TZNAME:CET
DTSTART:20271031T010000
END:STANDARD
END:VTIMEZONE
BEGIN:VEVENT
DTSTART;TZID=Europe/Paris:20260619T190000
DTEND;TZID=Europe/Paris:20260620T010000
DTSTAMP:20260426T004459
CREATED:20260420T093425Z
LAST-MODIFIED:20260420T125608Z
UID:30619-1781895600-1781917200@www.saintvit.fr
SUMMARY:🎶 Fête de la musique à Saint-Vit
DESCRIPTION:🎶 Fête de la musique à Saint-Vit\nLa Ville de Saint-Vit vous donne rendez-vous le vendredi 19 juin 2026\, de 19h à 1h\, au stade Michel Vautrot\, pour célébrer la musique dans une ambiance conviviale et festive. \nTout au long de la soirée\, plusieurs groupes et styles musicaux se succéderont pour faire vibrer le public : \n🎺 19h : Harmonie de Saint-Vit🎸 20h : Garage Band \n🎷21h : Guilor Sax et Bonzhigh🎧 22h : DJ Paty \nSur place\, vous pourrez également profiter d’un espace de restauration et d’une buvette. \n👉 Une soirée ouverte à toutes et tous\, à partager en famille ou entre amis\, pour célébrer la musique comme il se doit à Saint-Vit.
URL:https://www.saintvit.fr/evenement/fete-musique-saint-vit-2026/
LOCATION:gymnase Michel Vautrot\, rue Jean Cornet\, Saint Vit\, 25410\, France
CATEGORIES:Musique
ATTACH;FMTTYPE=image/jpeg:https://www.saintvit.fr/wp-content/uploads/2026/04/Affiche-Fete-de-la-musique-programmation-Illustration-Dynamique-Rose-Rouge-Noir2.jpg
END:VEVENT
END:VCALENDAR