BEGIN:VCALENDAR
VERSION:2.0
PRODID:-//Ville de Saint-Vit - ECPv6.15.20//NONSGML v1.0//EN
CALSCALE:GREGORIAN
METHOD:PUBLISH
X-WR-CALNAME:Ville de Saint-Vit
X-ORIGINAL-URL:https://www.saintvit.fr
X-WR-CALDESC:Évènements pour Ville de Saint-Vit
REFRESH-INTERVAL;VALUE=DURATION:PT1H
X-Robots-Tag:noindex
X-PUBLISHED-TTL:PT1H
BEGIN:VTIMEZONE
TZID:Europe/Paris
BEGIN:DAYLIGHT
TZOFFSETFROM:+0100
TZOFFSETTO:+0200
TZNAME:CEST
DTSTART:20250330T010000
END:DAYLIGHT
BEGIN:STANDARD
TZOFFSETFROM:+0200
TZOFFSETTO:+0100
TZNAME:CET
DTSTART:20251026T010000
END:STANDARD
BEGIN:DAYLIGHT
TZOFFSETFROM:+0100
TZOFFSETTO:+0200
TZNAME:CEST
DTSTART:20260329T010000
END:DAYLIGHT
BEGIN:STANDARD
TZOFFSETFROM:+0200
TZOFFSETTO:+0100
TZNAME:CET
DTSTART:20261025T010000
END:STANDARD
BEGIN:DAYLIGHT
TZOFFSETFROM:+0100
TZOFFSETTO:+0200
TZNAME:CEST
DTSTART:20270328T010000
END:DAYLIGHT
BEGIN:STANDARD
TZOFFSETFROM:+0200
TZOFFSETTO:+0100
TZNAME:CET
DTSTART:20271031T010000
END:STANDARD
END:VTIMEZONE
BEGIN:VEVENT
DTSTART;TZID=Europe/Paris:20260627T140000
DTEND;TZID=Europe/Paris:20260628T010000
DTSTAMP:20260421T233120
CREATED:20260421T123137Z
LAST-MODIFIED:20260421T123458Z
UID:30654-1782568800-1782608400@www.saintvit.fr
SUMMARY:🍺 La Bière Saint-Vit
DESCRIPTION:🍺 La Bière Saint-Vit\n				\n				\n			\n			\n				\n				\n				\n				\n			\n				\n				\n				\n				\n				\n				\n				\n				\n				\n				\n				🍺 La Bière Saint-Vit : une journée 100 % festive !\n\n			\n				\n				\n				\n				\n				📅 Samedi 27 juin 2026🕑 De 14h à 01h📍 Complexe sportif Michel Vautrot – Saint-Vit \nLa Ville de Saint-Vit\, en partenariat avec le Comité des Fêtes\, vous donne rendez-vous pour la 1ère édition de La Bière Saint-Vit ! \nUn événement festif et convivial\, ouvert à tous\, pour partager un moment entre amis ou en famille. \n🎉 Au programme\n🍻 Brasseurs artisanaux🍔 Food trucks variés🎶 Concerts🎧 DJ set🎈 Animations pour les enfants (structures gonflables) \nDe quoi profiter tout au long de la journée… et jusqu’au bout de la nuit. \n💸 Informations pratiques\n💰 Entrée : 5 € (éco-cup incluse)👶 Gratuit pour les enfants \n🍽️ Participants\nDe nombreux brasseurs et restaurateurs seront présents pour vous faire découvrir leurs spécialités. \n👉 Retrouvez l’ensemble des participants sur le visuel ci-dessous. \n☀️ Un événement pour tous\nPensée comme une fête accessible et familiale\, La Bière Saint-Vit propose également des animations dédiées aux plus jeunes\, pour que chacun puisse profiter de la journée. \n🔥 Une première édition à ne pas manquer !
URL:https://www.saintvit.fr/evenement/fete-biere-saint-vit-27-juin-2026/
LOCATION:complexe Vautrot\, Rue Jean Cornet\, Saint Vit\, 25410
CATEGORIES:Festival
ATTACH;FMTTYPE=image/png:https://www.saintvit.fr/wp-content/uploads/2026/04/1.png
END:VEVENT
END:VCALENDAR