BEGIN:VCALENDAR
VERSION:2.0
PRODID:-//Ville de Saint-Vit - ECPv6.15.20//NONSGML v1.0//EN
CALSCALE:GREGORIAN
METHOD:PUBLISH
X-WR-CALNAME:Ville de Saint-Vit
X-ORIGINAL-URL:https://www.saintvit.fr
X-WR-CALDESC:Évènements pour Ville de Saint-Vit
REFRESH-INTERVAL;VALUE=DURATION:PT1H
X-Robots-Tag:noindex
X-PUBLISHED-TTL:PT1H
BEGIN:VTIMEZONE
TZID:Europe/Paris
BEGIN:DAYLIGHT
TZOFFSETFROM:+0100
TZOFFSETTO:+0200
TZNAME:CEST
DTSTART:20250330T010000
END:DAYLIGHT
BEGIN:STANDARD
TZOFFSETFROM:+0200
TZOFFSETTO:+0100
TZNAME:CET
DTSTART:20251026T010000
END:STANDARD
BEGIN:DAYLIGHT
TZOFFSETFROM:+0100
TZOFFSETTO:+0200
TZNAME:CEST
DTSTART:20260329T010000
END:DAYLIGHT
BEGIN:STANDARD
TZOFFSETFROM:+0200
TZOFFSETTO:+0100
TZNAME:CET
DTSTART:20261025T010000
END:STANDARD
BEGIN:DAYLIGHT
TZOFFSETFROM:+0100
TZOFFSETTO:+0200
TZNAME:CEST
DTSTART:20270328T010000
END:DAYLIGHT
BEGIN:STANDARD
TZOFFSETFROM:+0200
TZOFFSETTO:+0100
TZNAME:CET
DTSTART:20271031T010000
END:STANDARD
END:VTIMEZONE
BEGIN:VEVENT
DTSTART;TZID=Europe/Paris:20260505T140000
DTEND;TZID=Europe/Paris:20260526T190000
DTSTAMP:20260422T211150
CREATED:20260421T120316Z
LAST-MODIFIED:20260421T120657Z
UID:30641-1777989600-1779822000@www.saintvit.fr
SUMMARY:🎨 Exposition “Terrain Vague”
DESCRIPTION:🎨 Exposition “Terrain Vague”\n				\n				\n			\n			\n				\n				\n				\n				\n			\n				\n				\n				\n				\n				\n				\n				\n				\n				\n				\n				🎨 Exposition “Terrain Vague” à la Halle aux Arts\n			\n				\n				\n				\n				\n				📅 Du 5 au 26 mai 2026📍 Halle aux Arts – Saint-Vit \nTerrain Vague : Une exploration des pratiques urbaines contemporaines ! \nLa Halle aux Arts de Saint-Vit vous propose Terrain Vague\, une exposition collective pensée comme un véritable laboratoire de création contemporaine. \nPlus qu’un simple accrochage\, l’événement se présente comme un espace ouvert\, un terrain de jeu où les pratiques artistiques se rencontrent et dialoguent entre elles\, sur un parcours immersif de plus de 450 m². \nS’inscrivant dans le sillage des esthétiques urbaines et du street art\, l’exposition réunit un large éventail de pratiques — peinture\, sculpture\, photographie et installation — témoignant de la vitalité et de la diversité de la création contemporaine. \nPlus qu’une exposition\, Terrain Vague propose une immersion dans un champ libre\, indiscipliné et engagé\, où les formes émergent\, dialoguent et se transforment au fil du regard. \n🎉 Vernissage\nJeudi 7 mai à partir de 18h30 \n👥 Artistes présents\nPink’Art RoZ • La Douche Froide • JM Lourenço • Hank China • L’Atelier Graphique MBC • Duploz • Nacle • Juillet Delatour • ArtistikThanh • La Fausse Patte • Florian Streit • Ntidote • La Lettre à la Main • Sylvain Pregaldiny \n🕒 Horaires d’ouverture\n• Mardi et vendredi : 14h – 19h• Mercredi\, samedi\, dimanche : 10h – 12h et 14h – 17h \n✨ Une exposition à ne pas manquer !
URL:https://www.saintvit.fr/evenement/expo-terrain-vague-saint-vit-mai-2026/
LOCATION:Halle aux Arts\, 24 rue Charles de Gaulle\, Saint-Vit\, 25410\, France
CATEGORIES:Exposition
ATTACH;FMTTYPE=image/png:https://www.saintvit.fr/wp-content/uploads/2026/04/expo-Terrain-Vague.png
END:VEVENT
END:VCALENDAR