BEGIN:VCALENDAR
VERSION:2.0
PRODID:-//Ville de Saint-Vit - ECPv6.15.20//NONSGML v1.0//EN
CALSCALE:GREGORIAN
METHOD:PUBLISH
X-ORIGINAL-URL:https://www.saintvit.fr
X-WR-CALDESC:Évènements pour Ville de Saint-Vit
REFRESH-INTERVAL;VALUE=DURATION:PT1H
X-Robots-Tag:noindex
X-PUBLISHED-TTL:PT1H
BEGIN:VTIMEZONE
TZID:Europe/Paris
BEGIN:DAYLIGHT
TZOFFSETFROM:+0100
TZOFFSETTO:+0200
TZNAME:CEST
DTSTART:20250330T010000
END:DAYLIGHT
BEGIN:STANDARD
TZOFFSETFROM:+0200
TZOFFSETTO:+0100
TZNAME:CET
DTSTART:20251026T010000
END:STANDARD
BEGIN:DAYLIGHT
TZOFFSETFROM:+0100
TZOFFSETTO:+0200
TZNAME:CEST
DTSTART:20260329T010000
END:DAYLIGHT
BEGIN:STANDARD
TZOFFSETFROM:+0200
TZOFFSETTO:+0100
TZNAME:CET
DTSTART:20261025T010000
END:STANDARD
BEGIN:DAYLIGHT
TZOFFSETFROM:+0100
TZOFFSETTO:+0200
TZNAME:CEST
DTSTART:20270328T010000
END:DAYLIGHT
BEGIN:STANDARD
TZOFFSETFROM:+0200
TZOFFSETTO:+0100
TZNAME:CET
DTSTART:20271031T010000
END:STANDARD
END:VTIMEZONE
BEGIN:VEVENT
DTSTART;TZID=Europe/Paris:20260510T170000
DTEND;TZID=Europe/Paris:20260510T203000
DTSTAMP:20260423T165057
CREATED:20260413T065401Z
LAST-MODIFIED:20260413T065610Z
UID:30576-1778432400-1778445000@www.saintvit.fr
SUMMARY:Concert “Folias” – Les Timbres à Saint-Vit
DESCRIPTION:Concert “Folias” – Les Timbres à Saint-Vit\n📅 Dimanche 10 mai 2026 à 17h📍 Salle multi-activités du pôle scolaire Les Prés-Verts🎟️ Entrée libre \nLa Folia\, véritable “standard” de la musique baroque\, est une mélodie simple et universelle qui a traversé les siècles. Adoptée par de nombreux compositeurs\, elle a donné naissance à d’innombrables variations\, mêlant virtuosité et imagination. \nDe Diego Ortiz au XVIe siècle jusqu’à des compositeurs contemporains comme Nobuo Uematsu\, ce thème continue d’inspirer les artistes. \nLe trio Les Timbres propose ici une exploration originale de cet héritage musical. À travers un programme mêlant œuvres anciennes\, créations plus récentes et improvisations\, les musiciens offrent une véritable mosaïque sonore autour de la Folia. \nUn concert accessible à tous\, qui invite à redécouvrir une mélodie intemporelle… et peut-être à la fredonner en sortant. \nAvec :• Yoko Kawakubo – violon• Myriam Rignol – viole de gambe• Julien Wolfs – orgue et clavecin \n📩 Réservations : service.culturel@saintvit.fr📞 06 03 65 31 07
URL:https://www.saintvit.fr/evenement/concert-folias-les-timbres-saint-vit-10-mai-2026/
LOCATION:Salle multi-activités\, 8 rue de la Combe du Four\, Saint-Vit\, 25410\, France
CATEGORIES:Concerts
ATTACH;FMTTYPE=image/jpeg:https://www.saintvit.fr/wp-content/uploads/2026/04/Les-Timbres-scaled.jpg
END:VEVENT
END:VCALENDAR